BEGIN:VCALENDAR
VERSION:2.0
PRODID:-//United Kingdom Seiki-Juku Karate Organisation - ECPv6.11.2//NONSGML v1.0//EN
CALSCALE:GREGORIAN
METHOD:PUBLISH
X-ORIGINAL-URL:http://staging.uksko.org
X-WR-CALDESC:Events for United Kingdom Seiki-Juku Karate Organisation
REFRESH-INTERVAL;VALUE=DURATION:PT1H
X-Robots-Tag:noindex
X-PUBLISHED-TTL:PT1H
BEGIN:VTIMEZONE
TZID:Europe/London
BEGIN:DAYLIGHT
TZOFFSETFROM:+0000
TZOFFSETTO:+0100
TZNAME:BST
DTSTART:20240331T010000
END:DAYLIGHT
BEGIN:STANDARD
TZOFFSETFROM:+0100
TZOFFSETTO:+0000
TZNAME:GMT
DTSTART:20241027T010000
END:STANDARD
END:VTIMEZONE
BEGIN:VEVENT
DTSTART;TZID=Europe/London:20240915T100000
DTEND;TZID=Europe/London:20240915T130000
DTSTAMP:20260419T170520
CREATED:20240130T172058Z
LAST-MODIFIED:20240130T172058Z
UID:10000012-1726394400-1726405200@staging.uksko.org
SUMMARY:1 st Kyu & Black Belt Course and Certificate Presentation
DESCRIPTION:Details T.B.C
URL:http://staging.uksko.org/event/1-st-kyu-black-belt-course-and-certificate-presentation/
LOCATION:Bu’sen Martial Arts and Sports Trust\, 244 Stanley Road\, Twickenham\, Middlesex\, TW25NP\, United Kingdom
CATEGORIES:Karate course
GEO:51.434842;-0.346402
X-APPLE-STRUCTURED-LOCATION;VALUE=URI;X-ADDRESS=Bu’sen Martial Arts and Sports Trust 244 Stanley Road Twickenham Middlesex TW25NP United Kingdom;X-APPLE-RADIUS=500;X-TITLE=244 Stanley Road:geo:-0.346402,51.434842
END:VEVENT
BEGIN:VEVENT
DTSTART;TZID=Europe/London:20241006T100000
DTEND;TZID=Europe/London:20241006T133000
DTSTAMP:20260419T170520
CREATED:20240130T172208Z
LAST-MODIFIED:20240130T172216Z
UID:10000013-1728208800-1728221400@staging.uksko.org
SUMMARY:Bu’sen Club and General Karate Grading
DESCRIPTION:Details T.B.C
URL:http://staging.uksko.org/event/busen-club-and-general-karate-grading-3/
LOCATION:Bu’sen Martial Arts and Sports Trust\, 244 Stanley Road\, Twickenham\, Middlesex\, TW25NP\, United Kingdom
CATEGORIES:Karate grading
GEO:51.434842;-0.346402
X-APPLE-STRUCTURED-LOCATION;VALUE=URI;X-ADDRESS=Bu’sen Martial Arts and Sports Trust 244 Stanley Road Twickenham Middlesex TW25NP United Kingdom;X-APPLE-RADIUS=500;X-TITLE=244 Stanley Road:geo:-0.346402,51.434842
END:VEVENT
BEGIN:VEVENT
DTSTART;TZID=Europe/London:20241030T103000
DTEND;TZID=Europe/London:20241030T140000
DTSTAMP:20260419T170520
CREATED:20240130T172401Z
LAST-MODIFIED:20240130T172401Z
UID:10000014-1730284200-1730296800@staging.uksko.org
SUMMARY:One Day Karate Half Term Course
DESCRIPTION:Details T.B.C.
URL:http://staging.uksko.org/event/one-day-karate-half-term-course/
LOCATION:Bu’sen Martial Arts and Sports Trust\, 244 Stanley Road\, Twickenham\, Middlesex\, TW25NP\, United Kingdom
CATEGORIES:Half term karate course,Karate course
GEO:51.434842;-0.346402
X-APPLE-STRUCTURED-LOCATION;VALUE=URI;X-ADDRESS=Bu’sen Martial Arts and Sports Trust 244 Stanley Road Twickenham Middlesex TW25NP United Kingdom;X-APPLE-RADIUS=500;X-TITLE=244 Stanley Road:geo:-0.346402,51.434842
END:VEVENT
BEGIN:VEVENT
DTSTART;TZID=Europe/London:20241103T100000
DTEND;TZID=Europe/London:20241103T124500
DTSTAMP:20260419T170520
CREATED:20240130T172640Z
LAST-MODIFIED:20240130T172640Z
UID:10000015-1730628000-1730637900@staging.uksko.org
SUMMARY:Pre grading & Kata Course
DESCRIPTION:Details T.B.C
URL:http://staging.uksko.org/event/pre-grading-kata-course/
LOCATION:Bu’sen Martial Arts and Sports Trust\, 244 Stanley Road\, Twickenham\, Middlesex\, TW25NP\, United Kingdom
CATEGORIES:Karate course,Kata course
GEO:51.434842;-0.346402
X-APPLE-STRUCTURED-LOCATION;VALUE=URI;X-ADDRESS=Bu’sen Martial Arts and Sports Trust 244 Stanley Road Twickenham Middlesex TW25NP United Kingdom;X-APPLE-RADIUS=500;X-TITLE=244 Stanley Road:geo:-0.346402,51.434842
END:VEVENT
BEGIN:VEVENT
DTSTART;TZID=Europe/London:20241201T100000
DTEND;TZID=Europe/London:20241201T100000
DTSTAMP:20260419T170520
CREATED:20240130T172734Z
LAST-MODIFIED:20240206T165110Z
UID:10000016-1733047200-1733047200@staging.uksko.org
SUMMARY:Bu’sen Club Grading and General Karate Grading
DESCRIPTION:Detail T.B.C.
URL:http://staging.uksko.org/event/busen-club-grading-and-general-karate-grading/
LOCATION:Bu’sen Martial Arts and Sports Trust\, 244 Stanley Road\, Twickenham\, Middlesex\, TW25NP\, United Kingdom
CATEGORIES:Karate grading
GEO:51.434842;-0.346402
X-APPLE-STRUCTURED-LOCATION;VALUE=URI;X-ADDRESS=Bu’sen Martial Arts and Sports Trust 244 Stanley Road Twickenham Middlesex TW25NP United Kingdom;X-APPLE-RADIUS=500;X-TITLE=244 Stanley Road:geo:-0.346402,51.434842
END:VEVENT
END:VCALENDAR