BEGIN:VCALENDAR
VERSION:2.0
PRODID:-//United Kingdom Seiki-Juku Karate Organisation - ECPv6.11.2//NONSGML v1.0//EN
CALSCALE:GREGORIAN
METHOD:PUBLISH
X-WR-CALNAME:United Kingdom Seiki-Juku Karate Organisation
X-ORIGINAL-URL:http://staging.uksko.org
X-WR-CALDESC:Events for United Kingdom Seiki-Juku Karate Organisation
REFRESH-INTERVAL;VALUE=DURATION:PT1H
X-Robots-Tag:noindex
X-PUBLISHED-TTL:PT1H
BEGIN:VTIMEZONE
TZID:Europe/London
BEGIN:DAYLIGHT
TZOFFSETFROM:+0000
TZOFFSETTO:+0100
TZNAME:BST
DTSTART:20240331T010000
END:DAYLIGHT
BEGIN:STANDARD
TZOFFSETFROM:+0100
TZOFFSETTO:+0000
TZNAME:GMT
DTSTART:20241027T010000
END:STANDARD
END:VTIMEZONE
BEGIN:VEVENT
DTSTART;TZID=Europe/London:20240309T100000
DTEND;TZID=Europe/London:20240309T124500
DTSTAMP:20260419T154909
CREATED:20240130T155342Z
LAST-MODIFIED:20240130T172942Z
UID:10000004-1709978400-1709988300@staging.uksko.org
SUMMARY:Pre grading and Kata Course
DESCRIPTION:Details T.B.C.
URL:http://staging.uksko.org/event/pre-grading-and-kata-course/
LOCATION:Bu’sen Martial Arts and Sports Trust\, 244 Stanley Road\, Twickenham\, Middlesex\, TW25NP\, United Kingdom
CATEGORIES:Karate course,Kata course
GEO:51.434842;-0.346402
X-APPLE-STRUCTURED-LOCATION;VALUE=URI;X-ADDRESS=Bu’sen Martial Arts and Sports Trust 244 Stanley Road Twickenham Middlesex TW25NP United Kingdom;X-APPLE-RADIUS=500;X-TITLE=244 Stanley Road:geo:-0.346402,51.434842
END:VEVENT
BEGIN:VEVENT
DTSTART;TZID=Europe/London:20240303T100000
DTEND;TZID=Europe/London:20240303T130000
DTSTAMP:20260419T154909
CREATED:20240130T155213Z
LAST-MODIFIED:20240130T162141Z
UID:10000003-1709460000-1709470800@staging.uksko.org
SUMMARY:Pre Black Belt Course
DESCRIPTION:Details T.B.C.
URL:http://staging.uksko.org/event/pre-black-belt-course/
LOCATION:Bu’sen Martial Arts and Sports Trust\, 244 Stanley Road\, Twickenham\, Middlesex\, TW25NP\, United Kingdom
CATEGORIES:Karate course
GEO:51.434842;-0.346402
X-APPLE-STRUCTURED-LOCATION;VALUE=URI;X-ADDRESS=Bu’sen Martial Arts and Sports Trust 244 Stanley Road Twickenham Middlesex TW25NP United Kingdom;X-APPLE-RADIUS=500;X-TITLE=244 Stanley Road:geo:-0.346402,51.434842
END:VEVENT
BEGIN:VEVENT
DTSTART;TZID=Europe/London:20240213T103000
DTEND;TZID=Europe/London:20240213T140000
DTSTAMP:20260419T154909
CREATED:20240130T124519Z
LAST-MODIFIED:20240130T172420Z
UID:10000002-1707820200-1707832800@staging.uksko.org
SUMMARY:One Day Half Term Karate Course
DESCRIPTION:Details T.B.C.
URL:http://staging.uksko.org/event/one-day-half-term-karate-course/
LOCATION:Bu’sen Martial Arts and Sports Trust\, 244 Stanley Road\, Twickenham\, Middlesex\, TW25NP\, United Kingdom
CATEGORIES:Half term karate course,Karate course
GEO:51.434842;-0.346402
X-APPLE-STRUCTURED-LOCATION;VALUE=URI;X-ADDRESS=Bu’sen Martial Arts and Sports Trust 244 Stanley Road Twickenham Middlesex TW25NP United Kingdom;X-APPLE-RADIUS=500;X-TITLE=244 Stanley Road:geo:-0.346402,51.434842
END:VEVENT
BEGIN:VEVENT
DTSTART;TZID=Europe/London:20240211T100000
DTEND;TZID=Europe/London:20240211T130000
DTSTAMP:20260419T154909
CREATED:20240130T124011Z
LAST-MODIFIED:20240130T175110Z
UID:10000001-1707645600-1707656400@staging.uksko.org
SUMMARY:Instructors and Assistant Instructors Course
DESCRIPTION:Details T.B.C.
URL:http://staging.uksko.org/event/instructors-and-assistant-instructors-course/
LOCATION:Bu’sen Martial Arts and Sports Trust\, 244 Stanley Road\, Twickenham\, Middlesex\, TW25NP\, United Kingdom
CATEGORIES:Instructors course
GEO:51.434842;-0.346402
X-APPLE-STRUCTURED-LOCATION;VALUE=URI;X-ADDRESS=Bu’sen Martial Arts and Sports Trust 244 Stanley Road Twickenham Middlesex TW25NP United Kingdom;X-APPLE-RADIUS=500;X-TITLE=244 Stanley Road:geo:-0.346402,51.434842
END:VEVENT
BEGIN:VEVENT
DTSTART;TZID=Europe/London:20240114T080000
DTEND;TZID=Europe/London:20240114T110000
DTSTAMP:20260419T154909
CREATED:20240131T164952Z
LAST-MODIFIED:20240131T165933Z
UID:10000017-1705219200-1705230000@staging.uksko.org
SUMMARY:Kangami Biraki
DESCRIPTION:You are invited to attend our annual Kangami Biraki on Sunday 14th January 2024 at Busen Martial Arts & Sports Trust 244 Stanley Road Twickenham TW2 5NP. \nCost: 40.00 Adults/Juniors (payable on the day) \nThe Kangami Biraki is held at the start of each year’s training and is considered to be the most important course of the year because we all get together to train and celebrate the New Year in our own special Karate way and to show our commitment towards our school of Karate. \nAll black belts are asked to attend and all Adult and Children Kyu grades are invited to train with the most senior grades in the Seiki Juku Karate School. \nPlease remember to bring all of your equipment. I look forward to seeing you all on the day. \nYours in Karate Do\nF. T. Perry (Kyoshi)
URL:http://staging.uksko.org/event/kangami-biraki/
LOCATION:Middlesex
CATEGORIES:Karate course
ATTACH;FMTTYPE=image/jpeg:http://staging.uksko.org/wp-content/uploads/2024/01/cd22bd5a-6cd2-4173-9886-878f98de2d7e.jpeg
END:VEVENT
END:VCALENDAR