BEGIN:VCALENDAR
VERSION:2.0
PRODID:-//United Kingdom Seiki-Juku Karate Organisation - ECPv6.11.2//NONSGML v1.0//EN
CALSCALE:GREGORIAN
METHOD:PUBLISH
X-WR-CALNAME:United Kingdom Seiki-Juku Karate Organisation
X-ORIGINAL-URL:http://staging.uksko.org
X-WR-CALDESC:Events for United Kingdom Seiki-Juku Karate Organisation
REFRESH-INTERVAL;VALUE=DURATION:PT1H
X-Robots-Tag:noindex
X-PUBLISHED-TTL:PT1H
BEGIN:VTIMEZONE
TZID:Europe/London
BEGIN:DAYLIGHT
TZOFFSETFROM:+0000
TZOFFSETTO:+0100
TZNAME:BST
DTSTART:20240331T010000
END:DAYLIGHT
BEGIN:STANDARD
TZOFFSETFROM:+0100
TZOFFSETTO:+0000
TZNAME:GMT
DTSTART:20241027T010000
END:STANDARD
END:VTIMEZONE
BEGIN:VEVENT
DTSTART;TZID=Europe/London:20240512T100000
DTEND;TZID=Europe/London:20240512T160000
DTSTAMP:20260419T182017
CREATED:20240130T161949Z
LAST-MODIFIED:20240130T161949Z
UID:10000007-1715508000-1715529600@staging.uksko.org
SUMMARY:UKSKO Tournament
DESCRIPTION:Details T.B.C.
URL:http://staging.uksko.org/event/uksko-tournament/
LOCATION:Bu’sen Martial Arts and Sports Trust\, 244 Stanley Road\, Twickenham\, Middlesex\, TW25NP\, United Kingdom
CATEGORIES:Karate tournament
GEO:51.434842;-0.346402
X-APPLE-STRUCTURED-LOCATION;VALUE=URI;X-ADDRESS=Bu’sen Martial Arts and Sports Trust 244 Stanley Road Twickenham Middlesex TW25NP United Kingdom;X-APPLE-RADIUS=500;X-TITLE=244 Stanley Road:geo:-0.346402,51.434842
END:VEVENT
END:VCALENDAR